BEGIN:VCALENDAR
VERSION:2.0
PRODID:-//ChamberMaster//Event Calendar 2.0//EN
METHOD:PUBLISH
X-PUBLISHED-TTL:P3D
REFRESH-INTERVAL:P3D
CALSCALE:GREGORIAN
BEGIN:VEVENT
DTSTART:20260610T210000Z
DTEND:20260611T000000Z
X-MICROSOFT-CDO-ALLDAYEVENT:FALSE
SUMMARY:Wills\, Trust & More
DESCRIPTION:Planning for the future doesn't have to be overwhelming it just takes the right guidance. ??\n\n \n\nWe are proud to be part of this upcoming event happening June 10th focused on helping you protect your future and your family's legacy.\n\n \n\nJoin us to learn:\n\n?? The difference between revocable vs. irrevocable trusts\n\n?? Smart ways to transfer assets to your children\n\n?? Retirement planning strategies\n\n?? How to protect your home and assets\n\n?? Key documents for immigration and more\n\n \n\nThis is a great opportunity to get informed\, ask questions\, and take the next step toward securing what matters most.\n\n\n\nSave your spot here: https://estatewealthguide.com/
X-ALT-DESC;FMTTYPE=text/html:<span style="color:rgb(12\, 16\, 20)\; font-family:-apple-system\,blinkmacsystemfont\,segoe ui\,roboto\,helvetica\,arial\,sans-serif\; font-size:14px">Planning for the future doesn&rsquo\;t have to be overwhelming&mdash\;it just takes the right guidance. ??</span><br />\n<span style="color:rgb(12\, 16\, 20)\; font-family:-apple-system\,blinkmacsystemfont\,segoe ui\,roboto\,helvetica\,arial\,sans-serif\; font-size:14px">&zwj\;</span><br />\n<span style="color:rgb(12\, 16\, 20)\; font-family:-apple-system\,blinkmacsystemfont\,segoe ui\,roboto\,helvetica\,arial\,sans-serif\; font-size:14px">We are proud to be part of this upcoming event happening June 10th focused on helping you protect your future and your family&rsquo\;s legacy.</span><br />\n<span style="color:rgb(12\, 16\, 20)\; font-family:-apple-system\,blinkmacsystemfont\,segoe ui\,roboto\,helvetica\,arial\,sans-serif\; font-size:14px">&zwj\;</span><br />\n<span style="color:rgb(12\, 16\, 20)\; font-family:-apple-system\,blinkmacsystemfont\,segoe ui\,roboto\,helvetica\,arial\,sans-serif\; font-size:14px">Join us to learn:</span><br />\n<span style="color:rgb(12\, 16\, 20)\; font-family:-apple-system\,blinkmacsystemfont\,segoe ui\,roboto\,helvetica\,arial\,sans-serif\; font-size:14px">?? The difference between revocable vs. irrevocable trusts</span><br />\n<span style="color:rgb(12\, 16\, 20)\; font-family:-apple-system\,blinkmacsystemfont\,segoe ui\,roboto\,helvetica\,arial\,sans-serif\; font-size:14px">?? Smart ways to transfer assets to your children</span><br />\n<span style="color:rgb(12\, 16\, 20)\; font-family:-apple-system\,blinkmacsystemfont\,segoe ui\,roboto\,helvetica\,arial\,sans-serif\; font-size:14px">?? Retirement planning strategies</span><br />\n<span style="color:rgb(12\, 16\, 20)\; font-family:-apple-system\,blinkmacsystemfont\,segoe ui\,roboto\,helvetica\,arial\,sans-serif\; font-size:14px">?? How to protect your home and assets</span><br />\n<span style="color:rgb(12\, 16\, 20)\; font-family:-apple-system\,blinkmacsystemfont\,segoe ui\,roboto\,helvetica\,arial\,sans-serif\; font-size:14px">?? Key documents for immigration and more</span><br />\n<span style="color:rgb(12\, 16\, 20)\; font-family:-apple-system\,blinkmacsystemfont\,segoe ui\,roboto\,helvetica\,arial\,sans-serif\; font-size:14px">&zwj\;</span><br />\n<span style="color:rgb(12\, 16\, 20)\; font-family:-apple-system\,blinkmacsystemfont\,segoe ui\,roboto\,helvetica\,arial\,sans-serif\; font-size:14px">This is a great opportunity to get informed\, ask questions\, and take the next step toward securing what matters most.</span><br />\n<br />\nSave your spot here: https://estatewealthguide.com/
LOCATION:3025 Hempstead Tpk\, Levittown\, NY 11756
UID:e.2797.6888
SEQUENCE:3
DTSTAMP:20260426T020146Z
URL:https://www.farmingdalenychamber.org/events/details/wills-trust-more-6888
END:VEVENT

END:VCALENDAR
