BEGIN:VCALENDAR
VERSION:2.0
PRODID:-//ChamberMaster//Event Calendar 2.0//EN
METHOD:PUBLISH
X-PUBLISHED-TTL:P3D
REFRESH-INTERVAL:P3D
CALSCALE:GREGORIAN
BEGIN:VEVENT
DTSTART;VALUE=DATE:20251231
DTEND;VALUE=DATE:20260101
TRANSP:TRANSPARENT
X-MICROSOFT-CDO-ALLDAYEVENT:TRUE
SUMMARY:Ring in 2026 - Farmingdale Village Family Friendly\, Early NEW YEAR'S EVE Ball Drop/Celebration
DESCRIPTION:Farmingdale Village is hosting an Early\, Family Friendly New Year's Eve Celebration - Ring in 2026 with a New Year's Eve free celebration from 6:30-8 pm. Free admission\, free hot cocoa\, free noisemakers .& Live Music ... on the Village Green\, 361 Main St\, weather permitting.\n\n\n\nBring family & friends - all ages:  Wednesday eve\, 12/31/25\, with Live music by Farmingdale's Electric Dudes @ the gazebo.  The festivities conclude with the countdown & NYE ball lighting @ 8 pm. Dine & celebrate locally throughout the Village before & after the festivities. Thanks to the Farmingdale Business Improvement District\, Farmingdale Village Fire Department\, Farmingdale Chamber of Commerce\, Farmingdale Village Board\, all involved.
X-ALT-DESC;FMTTYPE=text/html:<strong><span style="color:#1D2228"><span style="font-family:helvetica\,sans-serif"><span style="font-size:10.0pt">Farmingdale Village is hosting an Early\, Family Friendly New Year&#39\;s Eve Celebration</span></span></span></strong><span style="color:#1D2228"><span style="font-family:helvetica\,sans-serif"><span style="font-size:10.0pt">&nbsp\;- Ring in 2026 with a New Year&rsquo\;s Eve </span></span></span><span style="color:rgb(29\, 34\, 40)\; font-family:helvetica\,sans-serif\; font-size:13.3333px">free celebration from 6:30-8 pm. F</span><span style="color:#1D2228"><span style="font-family:helvetica\,sans-serif"><span style="font-size:10.0pt">ree admission\, free hot cocoa\, free noisemakers .&amp\; Live Music ... on the Village Green\, 361 Main St\, weather permitting.<br />\n<br />\nBring family &amp\; friends - all ages:&nbsp\; Wednesday eve\, 12/31/25\, with Live music by Farmingdale&#39\;s Electric Dudes @ the gazebo.&nbsp\; The festivities conclude with the countdown &amp\; NYE ball lighting @ 8 pm. Dine &amp\; celebrate locally throughout the Village before &amp\; after the festivities. Thanks to the Farmingdale Business Improvement District\, Farmingdale Village Fire Department\, Farmingdale Chamber of Commerce\, Farmingdale Village Board\, all involved.&nbsp\;</span></span></span><br />\n&nbsp\;
LOCATION:361 Main Street\, Farmingdale\, NY 11735
UID:e.2797.6615
SEQUENCE:3
DTSTAMP:20260422T002711Z
URL:https://www.farmingdalenychamber.org/events/details/ring-in-2026-farmingdale-village-family-friendly-early-new-year-s-eve-celebration-6615
END:VEVENT

END:VCALENDAR
