BEGIN:VCALENDAR
VERSION:2.0
PRODID:-//ChamberMaster//Event Calendar 2.0//EN
METHOD:PUBLISH
X-PUBLISHED-TTL:P3D
REFRESH-INTERVAL:P3D
CALSCALE:GREGORIAN
BEGIN:VEVENT
DTSTART:20250522T213000Z
DTEND:20250522T233000Z
X-MICROSOFT-CDO-ALLDAYEVENT:FALSE
SUMMARY:Multi-chamber Networking at Hilton Garden Inn
DESCRIPTION:Join Bethpage\, Farmingdale\, and Plainview/Old Bethpage Chambers of Commerce at The Hilton Garden Inn for a business card swap and networking event on Thursday\, May 22.\n\n5:30 - 7:30 pm\n\n1575 Round Swamp Road\, Plainview NY 11803\n\n\n\nLight Food / Cash Bar / Bring Lots of Business Cards\n\nNo cover charge but you must register as this event is limited to 75 attendees.
X-ALT-DESC;FMTTYPE=text/html:Join Bethpage\, Farmingdale\, and Plainview/Old Bethpage Chambers of Commerce at The Hilton Garden Inn for a business card swap and networking event on Thursday\, May 22.<br />\n5:30 - 7:30 pm<br />\n1575 Round Swamp Road\, Plainview NY 11803<br />\n<br />\nLight Food / Cash Bar / Bring Lots of Business Cards<br />\nNo cover charge but you must register as this event is limited to 75 attendees.<br />\n&nbsp\;
LOCATION:Hilton Garden Inn
UID:e.2797.6129
SEQUENCE:3
DTSTAMP:20260423T010056Z
URL:https://www.farmingdalenychamber.org/events/details/multi-chamber-networking-at-hilton-garden-inn-6129
END:VEVENT

END:VCALENDAR
