BEGIN:VCALENDAR
VERSION:2.0
PRODID:-//ChamberMaster//Event Calendar 2.0//EN
METHOD:PUBLISH
X-PUBLISHED-TTL:P3D
REFRESH-INTERVAL:P3D
CALSCALE:GREGORIAN
BEGIN:VEVENT
DTSTART:20260525T140000Z
DTEND:20260526T033000Z
X-MICROSOFT-CDO-ALLDAYEVENT:FALSE
SUMMARY:Farmingdale Memorial Day Parade & Ceremony
DESCRIPTION:Join the Community to Remember\, Honor and Salute our Heroes\, those who made the ultimate sacrifice in service to our Nation.\n\n\n\nOn 5/25/26\, the Annual Memorial Day Parade down Main St. kicks off at 10am proceeding south on Main Street\, ending at Village Hall\; rain or shine. Followed by a Ceremony on the Village Green with Veterans of Foreign Wars Post 516\, VFW Auxiliary Post 516\, American Legion\, troops\, groups +\, 361 Main St.\n\n\n\nThe parade step-off varies by group or organization (Northside School\, Thomas Powell\, etc.\, details provided by the Fire Department).\n\n \n\nSpecial Thanks to ALL Heroes\, Veterans\, participants\, troops\, groups\, all involved\, and to ALL at the Farmingdale Fire Department for planning the parade. \n\n\nFarmingdale Village is a downtown destination\, shop and dine local - explore the many shops\, merchants\, Culinary Quarter Mile restaurants\, eateries & more while downtown\n\n\n\nMain Street will be temporarily closed for the parade. \n\n\n\nwww.farmingdalevillage.com\n\n\n\nEvent photo credits: Marketing Masters NY (in front of Village Green)\; Phil LoNigro (Firehouse photo)
X-ALT-DESC;FMTTYPE=text/html:<div>Join the Community to Remember\, Honor and Salute our Heroes\, those who made the ultimate sacrifice in service to our Nation.<br />\n<br />\nOn 5/25/26\, the Annual Memorial Day Parade down Main St. kicks off at 10am proceeding south on Main Street\, ending at Village Hall\; rain or shine. Followed by a Ceremony on the Village Green with Veterans of Foreign Wars Post 516\, VFW Auxiliary Post 516\, American Legion\, troops\, groups +\, 361 Main St.<br />\n<br />\nThe&nbsp\;parade step-off varies by group or organization (Northside School\, Thomas Powell\, etc.\, details provided by the Fire Department).<br />\n&nbsp\;</div>\n\n<div>Special Thanks to ALL Heroes\, Veterans\, participants\, troops\, groups\, all involved\, and to ALL at the Farmingdale Fire Department for planning the parade.&nbsp\;</div>\n<br />\n<span style="font-family:arial\,helvetica\,sans-serif"><span style="font-size:14px"><span style="color:#333333">Farmingdale Village is a downtown destination\, shop and dine local - explore the many shops\, merchants\, Culinary Quarter Mile&nbsp\;restaurants\, eateries &amp\; more while downtown</span><br />\n<br />\n<span style="color:#4B4F56"><span style="color:#333333">Main Street will be temporarily closed for the parade.&nbsp\;</span></span></span></span><br />\n<br />\n<u><strong><span style="font-size:12px"><span style="color:#333333"><span style="font-family:arial\,sans-serif"><span style="color:black"><a href="http://www.farmingdalevillage.com/" target="_blank"><span style="color:#0782C1">www.farmingdalevillage.com</span></a></span></span></span></span></strong></u>\n\n<div><br />\n<span style="background-color:rgb(255\, 255\, 255)\; color:rgb(51\, 51\, 51)\; font-family:sans-serif\,arial\,verdana\,trebuchet ms\; font-size:13px">Event photo credits: Marketing Masters NY (in front of Village Green)\; Phil LoNigro (Firehouse photo)</span></div>\n<br />\n<br />\n&nbsp\;
LOCATION:The parade step-off varies by group or organization (Northside School\, Thomas Powell\, etc.\, details provided by the Fire Department.) & proceeds along Main Street to the Village Green in downtown Farmingdale
UID:e.2797.6886
SEQUENCE:3
DTSTAMP:20260422T103849Z
URL:https://www.farmingdalenychamber.org/events/details/farmingdale-memorial-day-parade-ceremony-05-25-2026-6886
END:VEVENT

END:VCALENDAR
