BEGIN:VCALENDAR
VERSION:2.0
PRODID:-//ChamberMaster//Event Calendar 2.0//EN
METHOD:PUBLISH
X-PUBLISHED-TTL:P3D
REFRESH-INTERVAL:P3D
CALSCALE:GREGORIAN
BEGIN:VEVENT
DTSTART:20260606T140000Z
DTEND:20260606T200000Z
X-MICROSOFT-CDO-ALLDAYEVENT:FALSE
SUMMARY:Farmingdale Medieval History Day On The Village Green / FFD Spring Street Fair
DESCRIPTION:The community is invited to attend Farmingdale Medieval History Day! The Canton of Lions End\, in the Crown Province of  stgar r returns to the Village Green in Farmingdale on Saturday June 6th for the Sixth  Annual Farmingdale Medieval History Day from 10am   4pm\, 361 Main St.  Free to attend\, all ages welcome.\n\n\n\nWearing Medieval clothing of different centuries they will perform demonstrations and displays of some skills\, as well as arts and crafts.\nMedieval History Day coincides with the annual Farmingdale Fire Department Spring Street Fair along Main St\, Saturday June 6th\, 10:30am-4:30pm / Fire Dept Open House 12-3PM (FB event link:https://www.facebook.com/events/26625207460453015 \n\n\n\nShop & dine along Main Street\, stop by the Village Green and step back to an earlier time\, bring friends and family!  Join the Canton of Lions End\, the local Society for Creative Anachronism (SCA) group in Farmingdale for Family-Oriented Crafts\, Hands-on Demonstrations and Exhibits for Adults and Children. FB event link: https://www.facebook.com/share/18SxBhsTMi/\n\n\n\nFor more information email seneschal@lionsend.eastkingdom.org\, www.farmingdalevillage.com\,  www.facebook.com/farmingdale11735\, 516-249-0093
X-ALT-DESC;FMTTYPE=text/html:<span style="font-size:14px"><span style="color:#1D2228"><span style="font-family:arial\,sans-serif">The community is invited to attend&nbsp\;</span></span><strong><span style="color:green"><span style="font-family:arial\,sans-serif">Farmingdale Medieval History Day!&nbsp\;</span></span></strong><strong><span style="color:#1D2228"><span style="font-family:arial\,sans-serif">The Canton of Lions End\, in the Crown Province of &Oslash\;stgar&eth\;r</span></span></strong><span style="color:#1D2228"><span style="font-family:arial\,sans-serif">&nbsp\;returns to the&nbsp\;<strong>Village Green&nbsp\;</strong>in Farmingdale&nbsp\;on Saturday June 6th for the Sixth&nbsp\;</span></span><strong><span style="color:green"><span style="font-family:arial\,sans-serif">&nbsp\;Annual</span></span></strong>&nbsp\;<strong><span style="color:green"><span style="font-family:arial\,sans-serif">Farmingdale Medieval History Day&nbsp\;</span></span></strong><span style="color:#1D2228"><span style="font-family:arial\,sans-serif">from 10am &ndash\; 4pm\, 361 Main St.&nbsp\; Free to attend\, all ages welcome.<br />\n<br />\nWearing Medieval clothing of different centuries they will perform demonstrations and displays of some skills\, as well as arts and crafts.</span></span></span>\n<p style="text-align:justify"><strong><span style="color:green\; font-family:arial\,sans-serif\; font-size:11.0pt">Medieval History Day</span></strong><span style="color:black\; font-family:arial\,sans-serif\; font-size:11.0pt">&nbsp\;coincides with the annual&nbsp\;<strong>Farmingdale Fire Department Spring Street Fair&nbsp\;</strong>along Main St\, Saturday June 6th\, 10:30am-4:30pm / Fire Dept Open House 12-3PM (FB event link:</span>https://www.facebook.com/events/26625207460453015<span style="color:black\; font-family:arial\,sans-serif\; font-size:11.0pt">&nbsp\;</span><br />\n<br />\n<span style="color:rgb(29\, 34\, 40)\; font-family:arial\,sans-serif\; font-size:11pt">Shop &amp\; dine along Main Street\, stop by the Village Green and step back to an earlier time\, bring friends and family!&nbsp\; Join the Canton of Lions End\, the local Society for Creative Anachronism (SCA) group in&nbsp\;Farmingdale for Family-Oriented Crafts\, Hands-on Demonstrations and Exhibits for Adults and Children. FB event link:&nbsp\;</span>https://www.facebook.com/share/18SxBhsTMi/<br />\n<br />\n<span style="color:rgb(29\, 34\, 40)\; font-family:arial\,sans-serif\; font-size:11pt">For more information e</span><span style="color:black\; font-family:arial\,sans-serif\; font-size:11pt">mail&nbsp\;</span><span style="color:rgb(29\, 34\, 40)\; font-family:arial\,sans-serif\; font-size:11pt"><a href="mailto:seneschal@lionsend.eastkingdom.org" target="_blank"><span style="color:#196AD4">seneschal@lionsend.eastkingdom.org</span></a></span><span style="color:rgb(29\, 34\, 40)\; font-family:arial\,sans-serif\; font-size:11pt">\,&nbsp\;<a href="http://www.farmingdalevillage.com/" target="_blank"><span style="color:#196AD4">www.farmingdalevillage.com</span></a>\,&nbsp\; <a href="http://www.facebook.com/farmingdale11735" target="_blank"><span style="color:#196AD4">www.facebook.com/farmingdale11735</span></a></span><span style="color:blue\; font-family:arial\,sans-serif\; font-size:11pt">\,&nbsp\;</span><span style="color:rgb(29\, 34\, 40)\; font-family:arial\,sans-serif\; font-size:11pt"><a href="tel:516-249-0093">516-249-0093</a></span></p>\n
LOCATION:Main Street / 361 Main Street Farmingdale\, NY
UID:e.2797.6887
SEQUENCE:3
DTSTAMP:20260422T101645Z
URL:https://www.farmingdalenychamber.org/events/details/farmingdale-medieval-history-day-on-the-village-green-ffd-spring-street-fair-06-06-2026-6887
END:VEVENT

END:VCALENDAR
